
BEGIN:VCALENDAR
VERSION:2.0
PRODID:-//MoHagan.com - ECPv6.11.2.1//NONSGML v1.0//EN
CALSCALE:GREGORIAN
METHOD:PUBLISH
X-WR-CALNAME:MoHagan.com
X-ORIGINAL-URL:https://mohagan.com
X-WR-CALDESC:Events for MoHagan.com
REFRESH-INTERVAL;VALUE=DURATION:PT1H
X-Robots-Tag:noindex
X-PUBLISHED-TTL:PT1H
BEGIN:VTIMEZONE
TZID:America/Toronto
BEGIN:DAYLIGHT
TZOFFSETFROM:-0500
TZOFFSETTO:-0400
TZNAME:EDT
DTSTART:20240310T070000
END:DAYLIGHT
BEGIN:STANDARD
TZOFFSETFROM:-0400
TZOFFSETTO:-0500
TZNAME:EST
DTSTART:20241103T060000
END:STANDARD
END:VTIMEZONE
BEGIN:VEVENT
DTSTART;VALUE=DATE:20240405
DTEND;VALUE=DATE:20240414
DTSTAMP:20260420T055247
CREATED:20240123T181059Z
LAST-MODIFIED:20240201T164507Z
UID:19747-1712275200-1713052799@mohagan.com
SUMMARY:POSTPONED - Join Mo for a Wellness Retreat in Beautiful Antigua!
DESCRIPTION:  \n— EVENT POSTPONED UNTIL NOV. 2024 —\n— NEW DATES TO BE ANNOUNCED SOON — \n  \nJoin us for a week of all-inclusive wellness in Antigua this April. \nMeet fellow wellness enthusiasts\, enjoy activities provided by Canadian fitness and wellness professionals\, and get away from it all with plenty of self-care in the sun at The Verandah Antigua. \nPackages include: \n\n\nExclusive event swag bag (approx. value of $400)\nDaily activities including yoga\, meditation and more\nCulinary experience\nHiking excursion\nWelcome mixer and beach BBQ dinner\n1st checked bag free\n4\,000 extra Aeroplan® points with our new way to earn\n\n\nDeparture from Montreal or Toronto starting at $4\,899 per person* \nView the activity calendar \nBook as of: November 30\, 2023 until sold out!\nDeparture dates: April 5 (departure from Montreal) and April 6\, 2024 (departure from Toronto)\nApplicable to: Vacation packages to The Verandah Antigua \nA minimum of 20 participants is required for the execution of this trip. A full refund will be issued in the event this trip is cancelled. \n  \nSpace is limited! Secure your spot now. \nBook your package from Toronto \nBook your package from Montreal
URL:https://mohagan.com/event/join-mo-in-beautiful-antigua-for-a-wellness-retreat/
LOCATION:The Verandah Antigua\, 38W8+QM\, Long Bay\, Willikies\, Antigua and Barbuda
CATEGORIES:Fitness,Good Life,Health,Retreat,Strength,Yoga
ATTACH;FMTTYPE=image/jpeg:https://mohagan.com/wp-content/uploads/2024/01/i-qjkc5hh-x3.jpg
END:VEVENT
END:VCALENDAR