
BEGIN:VCALENDAR
VERSION:2.0
PRODID:-//MoHagan.com - ECPv6.11.2.1//NONSGML v1.0//EN
CALSCALE:GREGORIAN
METHOD:PUBLISH
X-WR-CALNAME:MoHagan.com
X-ORIGINAL-URL:https://mohagan.com
X-WR-CALDESC:Events for MoHagan.com
REFRESH-INTERVAL;VALUE=DURATION:PT1H
X-Robots-Tag:noindex
X-PUBLISHED-TTL:PT1H
BEGIN:VTIMEZONE
TZID:America/Toronto
BEGIN:DAYLIGHT
TZOFFSETFROM:-0500
TZOFFSETTO:-0400
TZNAME:EDT
DTSTART:20230312T070000
END:DAYLIGHT
BEGIN:STANDARD
TZOFFSETFROM:-0400
TZOFFSETTO:-0500
TZNAME:EST
DTSTART:20231105T060000
END:STANDARD
END:VTIMEZONE
BEGIN:VEVENT
DTSTART;TZID=America/Toronto:20230817T100000
DTEND;TZID=America/Toronto:20230817T163000
DTSTAMP:20260419T085339
CREATED:20230808T161942Z
LAST-MODIFIED:20230808T162253Z
UID:19443-1692266400-1692289800@mohagan.com
SUMMARY:canfitpro Women Who Influence
DESCRIPTION:Enabling leadership development through education\, mentorship\, and self-empowerment!\n\n\n\n\n\ncanfitpro Women Who Influence was created to celebrate women leadHERs in the fitness industry\, in particular\, those who inspire and influence others to rise with them. This event gives women a platform from which to speak out\, share their story and encourage other women to pursue next level leadHERship opportunities. \ncanfitpro Women Who Influence is an annual one-day education experience and luncheon that takes place alongside canfitpro’s Global Conference & Tradeshow every August. \nLEARN MORE HERE:\nhttps://www.canfitpro.com/womenwhoinfluence/
URL:https://mohagan.com/event/canfitpro-women-who-influence/
LOCATION:Intercontinental Hotel Toronto\, 225 Front St W\, Toronto\, Ontario\, M5V 2X3\, Canada
CATEGORIES:canfitpro,Women Who Influence
ATTACH;FMTTYPE=image/png:https://mohagan.com/wp-content/uploads/2023/08/women_who_influence_2023_event_header.png
ORGANIZER;CN="canfitpro":MAILTO:info@canfitpro.com
END:VEVENT
BEGIN:VEVENT
DTSTART;VALUE=DATE:20230816
DTEND;VALUE=DATE:20230821
DTSTAMP:20260419T085339
CREATED:20230526T135533Z
LAST-MODIFIED:20230530T130451Z
UID:19343-1692144000-1692575999@mohagan.com
SUMMARY:2023 canfitpro Global Conference & Trade Show
DESCRIPTION:SAVE THE DATE!\nWelcome back fitness professionals\, consumers\, and industry brands back to Toronto to reignite the passion that started all our unique journeys. \nBe sure to stay tuned for more exciting updates later this month and watch the campaign develop as we MO’ve towards the canfitpro Global Conference and Trade Show happening August 16 – 20\, 2023!
URL:https://mohagan.com/event/2023-canfitpro-global-conference-trade-show/
LOCATION:Metro Toronto Convention Centre\, 255 Front St W\, Toronto\, Ontario\, M5V 2W6\, Canada
CATEGORIES:canfitpro,Conference,Trade Show
ATTACH;FMTTYPE=image/png:https://mohagan.com/wp-content/uploads/2023/01/canfitpro_2023_conference.png
ORGANIZER;CN="canfitpro":MAILTO:info@canfitpro.com
END:VEVENT
END:VCALENDAR